<p>BEGIN:VCALENDAR
VERSION:2.0
PRODID:-//FCソフトサイエンス｜川崎市サッカー協会 - ECPv6.15.18//NONSGML v1.0//EN
CALSCALE:GREGORIAN
METHOD:PUBLISH
X-ORIGINAL-URL:https://fcsoftscience.com/ss2025
X-WR-CALDESC:FCソフトサイエンス｜川崎市サッカー協会 のイベント
REFRESH-INTERVAL;VALUE=DURATION:PT1H
X-Robots-Tag:noindex
X-PUBLISHED-TTL:PT1H
BEGIN:VTIMEZONE
TZID:Asia/Tokyo
BEGIN:STANDARD
TZOFFSETFROM:+0900
TZOFFSETTO:+0900
TZNAME:JST
DTSTART:20240101T000000
END:STANDARD
END:VTIMEZONE
BEGIN:VEVENT
DTSTART;VALUE=DATE:20251221
DTEND;VALUE=DATE:20251222
DTSTAMP:20260423T180057
CREATED:20251122T143255Z
LAST-MODIFIED:20251130T123453Z
UID:1227-1766275200-1766361599@fcsoftscience.com
SUMMARY:【川崎】2025年度細岡杯市民サッカー大会(第6節)
DESCRIPTION:vsFC.Alegreal\n09:00キックオフ／場所：古市場
URL:https://fcsoftscience.com/ss2025/event/%e3%80%90%e5%b7%9d%e5%b4%8e%e3%80%91%e7%b4%b0%e5%b2%a1%e6%9d%af%e5%b8%82%e6%b0%91%e3%82%b5%e3%83%83%e3%82%ab%e3%83%bc%e5%a4%a7%e4%bc%9a%e3%83%aa%e3%83%bc%e3%82%b0%e6%88%a65%e5%9b%9e%e6%88%a6/
END:VEVENT
END:VCALENDAR</p>
<!-- Compressed by TCD -->