<p>BEGIN:VCALENDAR
VERSION:2.0
PRODID:-//FCソフトサイエンス｜川崎市サッカー協会 - ECPv6.15.18//NONSGML v1.0//EN
CALSCALE:GREGORIAN
METHOD:PUBLISH
X-WR-CALNAME:FCソフトサイエンス｜川崎市サッカー協会
X-ORIGINAL-URL:https://fcsoftscience.com/ss2025
X-WR-CALDESC:FCソフトサイエンス｜川崎市サッカー協会 のイベント
REFRESH-INTERVAL;VALUE=DURATION:PT1H
X-Robots-Tag:noindex
X-PUBLISHED-TTL:PT1H
BEGIN:VTIMEZONE
TZID:Asia/Tokyo
BEGIN:STANDARD
TZOFFSETFROM:+0900
TZOFFSETTO:+0900
TZNAME:JST
DTSTART:20250101T000000
END:STANDARD
END:VTIMEZONE
BEGIN:VEVENT
DTSTART;VALUE=DATE:20260215
DTEND;VALUE=DATE:20260216
DTSTAMP:20260420T072255
CREATED:20260112T134848Z
LAST-MODIFIED:20260112T134848Z
UID:1317-1771113600-1771199999@fcsoftscience.com
SUMMARY:2025年度川崎市市民トーナメント決勝
DESCRIPTION:vsFCT JET’S\n10:05キックオフ／場所：等々力第一
URL:https://fcsoftscience.com/ss2025/event/2025%e5%b9%b4%e5%ba%a6%e5%b7%9d%e5%b4%8e%e5%b8%82%e5%b8%82%e6%b0%91%e3%83%88%e3%83%bc%e3%83%8a%e3%83%a1%e3%83%b3%e3%83%88%e6%b1%ba%e5%8b%9d/
END:VEVENT
END:VCALENDAR</p>
<!-- Compressed by TCD -->