<p>BEGIN:VCALENDAR
VERSION:2.0
PRODID:-//FCソフトサイエンス｜川崎市サッカー協会 - ECPv6.15.18//NONSGML v1.0//EN
CALSCALE:GREGORIAN
METHOD:PUBLISH
X-WR-CALNAME:FCソフトサイエンス｜川崎市サッカー協会
X-ORIGINAL-URL:https://fcsoftscience.com/ss2025
X-WR-CALDESC:FCソフトサイエンス｜川崎市サッカー協会 のイベント
REFRESH-INTERVAL;VALUE=DURATION:PT1H
X-Robots-Tag:noindex
X-PUBLISHED-TTL:PT1H
BEGIN:VTIMEZONE
TZID:Asia/Tokyo
BEGIN:STANDARD
TZOFFSETFROM:+0900
TZOFFSETTO:+0900
TZNAME:JST
DTSTART:20250101T000000
END:STANDARD
END:VTIMEZONE
BEGIN:VEVENT
DTSTART;VALUE=DATE:20260315
DTEND;VALUE=DATE:20260316
DTSTAMP:20260420T060337
CREATED:20260201T144557Z
LAST-MODIFIED:20260207T124618Z
UID:1329-1773532800-1773619199@fcsoftscience.com
SUMMARY:第49回神奈川県郡市サッカー大会(準決勝)
DESCRIPTION:vsH.O.B（茅ヶ崎市）\n08:45キックオフ／場所：等々力第一
URL:https://fcsoftscience.com/ss2025/event/%e7%ac%ac49%e5%9b%9e%e7%a5%9e%e5%a5%88%e5%b7%9d%e7%9c%8c%e9%83%a1%e5%b8%82%e3%82%b5%e3%83%83%e3%82%ab%e3%83%bc%e5%a4%a7%e4%bc%9a%e6%ba%96%e6%b1%ba%e5%8b%9d/
END:VEVENT
END:VCALENDAR</p>
<!-- Compressed by TCD -->