<p>BEGIN:VCALENDAR
VERSION:2.0
PRODID:-//FCソフトサイエンス｜川崎市サッカー協会 - ECPv6.15.18//NONSGML v1.0//EN
CALSCALE:GREGORIAN
METHOD:PUBLISH
X-WR-CALNAME:FCソフトサイエンス｜川崎市サッカー協会
X-ORIGINAL-URL:https://fcsoftscience.com/ss2025
X-WR-CALDESC:FCソフトサイエンス｜川崎市サッカー協会 のイベント
REFRESH-INTERVAL;VALUE=DURATION:PT1H
X-Robots-Tag:noindex
X-PUBLISHED-TTL:PT1H
BEGIN:VTIMEZONE
TZID:Asia/Tokyo
BEGIN:STANDARD
TZOFFSETFROM:+0900
TZOFFSETTO:+0900
TZNAME:JST
DTSTART:20250101T000000
END:STANDARD
END:VTIMEZONE
BEGIN:VEVENT
DTSTART;VALUE=DATE:20260517
DTEND;VALUE=DATE:20260518
DTSTAMP:20260420T054704
CREATED:20260308T120827Z
LAST-MODIFIED:20260308T131202Z
UID:1364-1778976000-1779062399@fcsoftscience.com
SUMMARY:2026年度川崎市市民トーナメント　準決勝
DESCRIPTION:vs　未定\n10:30キックオフ／場所：上平間
URL:https://fcsoftscience.com/ss2025/event/2026%e5%b9%b4%e5%ba%a6%e5%b7%9d%e5%b4%8e%e5%b8%82%e5%b8%82%e6%b0%91%e3%83%88%e3%83%bc%e3%83%8a%e3%83%a1%e3%83%b3%e3%83%88%e3%80%80%e6%ba%96%e6%b1%ba%e5%8b%9d/
END:VEVENT
END:VCALENDAR</p>
<!-- Compressed by TCD -->